1.000000
0.000000
0.000000
-1.000000
658606.500
4214714.500
