1.000000
0.000000
0.000000
-1.000000
647513.500
4221435.500
