1.000000
0.000000
0.000000
-1.000000
642034.500
4221334.500
