1.000000
0.000000
0.000000
-1.000000
647639.500
4214500.500
