1.000000
0.000000
0.000000
-1.000000
636556.500
4221236.500
