1.000000
0.000000
0.000000
-1.000000
631077.500
4221142.500
