1.000000
0.000000
0.000000
-1.000000
636672.500
4214301.500
