1.000000
0.000000
0.000000
-1.000000
625599.500
4221051.500
