1.000000
0.000000
0.000000
-1.000000
620120.500
4220965.500
