1.000000
0.000000
0.000000
-1.000000
625706.500
4214116.500
