1.000000
0.000000
0.000000
-1.000000
620223.500
4214029.500
