1.000000
0.000000
0.000000
-1.000000
669138.500
4235750.500
