1.000000
0.000000
0.000000
-1.000000
669283.500
4228814.500
