1.000000
0.000000
0.000000
-1.000000
658199.500
4235520.500
