1.000000
0.000000
0.000000
-1.000000
652730.500
4235411.500
