1.000000
0.000000
0.000000
-1.000000
658335.500
4228585.500
