1.000000
0.000000
0.000000
-1.000000
647261.500
4235306.500
