1.000000
0.000000
0.000000
-1.000000
641791.500
4235205.500
