1.000000
0.000000
0.000000
-1.000000
647387.500
4228371.500
