1.000000
0.000000
0.000000
-1.000000
636322.500
4235107.500
