1.000000
0.000000
0.000000
-1.000000
630853.500
4235012.500
