1.000000
0.000000
0.000000
-1.000000
636439.500
4228171.500
