1.000000
0.000000
0.000000
-1.000000
625384.500
4234922.500
