1.000000
0.000000
0.000000
-1.000000
625491.500
4227987.500
