1.000000
0.000000
0.000000
-1.000000
668993.500
4242685.500
