1.000000
0.000000
0.000000
-1.000000
658063.500
4242456.500
