1.000000
0.000000
0.000000
-1.000000
647134.500
4242242.500
