1.000000
0.000000
0.000000
-1.000000
636205.500
4242042.500
