1.000000
0.000000
0.000000
-1.000000
575771.000
4275881.000
