1.000000
0.000000
0.000000
-1.000000
575837.000
4268946.000
