1.000000
0.000000
0.000000
-1.000000
570330.000
4275827.000
