1.000000
0.000000
0.000000
-1.000000
564890.000
4275777.000
