1.000000
0.000000
0.000000
-1.000000
570392.000
4268892.000
