1.000000
0.000000
0.000000
-1.000000
564946.000
4268842.000
