1.000000
0.000000
0.000000
-1.000000
559449.000
4275731.000
