1.000000
0.000000
0.000000
-1.000000
554008.000
4275688.000
