1.000000
0.000000
0.000000
-1.000000
559501.000
4268796.000
