1.000000
0.000000
0.000000
-1.000000
554055.000
4268753.000
