1.000000
0.000000
0.000000
-1.000000
548568.000
4275649.000
