1.000000
0.000000
0.000000
-1.000000
543127.000
4275614.000
