1.000000
0.000000
0.000000
-1.000000
548610.000
4268714.000
