1.000000
0.000000
0.000000
-1.000000
543165.000
4268679.000
