1.000000
0.000000
0.000000
-1.000000
537686.000
4275583.000
