1.000000
0.000000
0.000000
-1.000000
532240.000
4275560.000
