1.000000
0.000000
0.000000
-1.000000
537720.000
4268650.000
