1.000000
0.000000
0.000000
-1.000000
532270.000
4268620.000
