1.000000
0.000000
0.000000
-1.000000
564776.000
4289648.000
