1.000000
0.000000
0.000000
-1.000000
570269.000
4282763.000
