1.000000
0.000000
0.000000
-1.000000
564833.000
4282713.000
