1.000000
0.000000
0.000000
-1.000000
559345.000
4289602.000
